BEGIN:VCALENDAR
VERSION:2.0
PRODID:-//Lost River Cave - ECPv6.6.4.2//NONSGML v1.0//EN
CALSCALE:GREGORIAN
METHOD:PUBLISH
X-WR-CALNAME:Lost River Cave
X-ORIGINAL-URL:https://www.lostrivercave.org
X-WR-CALDESC:Events for Lost River Cave
REFRESH-INTERVAL;VALUE=DURATION:PT1H
X-Robots-Tag:noindex
X-PUBLISHED-TTL:PT1H
BEGIN:VTIMEZONE
TZID:UTC
BEGIN:STANDARD
TZOFFSETFROM:+0000
TZOFFSETTO:+0000
TZNAME:UTC
DTSTART:20260101T000000
END:STANDARD
END:VTIMEZONE
BEGIN:VEVENT
DTSTART;VALUE=DATE:20260420
DTEND;VALUE=DATE:20260427
DTSTAMP:20260422T091733
CREATED:20230315T182521Z
LAST-MODIFIED:20260408T203828Z
UID:8086-1776643200-1777247999@www.lostrivercave.org
SUMMARY:Earth Week
DESCRIPTION:[vc_row][vc_column]Snap & Share: A Citizen Science Field Workshop \nApril 20 – 26\n[vc_column_text css=””] \nGet ready for a week of nature-filled fun at Lost River Cave! Earth Week is all about celebrating the beauty of our environment and the amazing progress we’ve made with our Meadow Restoration project. Whether it’s hands-on volunteering\, helping restore habitats\, or joining fun educational programs\, there’s something for everyone. Come explore\, learn\, and take part in bringing our meadow ecosystem back to life while celebrating the natural world around us! \n[/vc_column_text][vc_empty_space height=”18px”][/vc_column][/vc_row][vc_row][vc_column]Sign Up to Volunteer[vc_empty_space][/vc_column][/vc_row][vc_row disable_element=”yes”][vc_column width=”1/2″]Become a Sponsor[vc_empty_space][/vc_column][vc_column width=”1/2″]Sign Up to Volunteer[vc_empty_space][/vc_column][/vc_row][vc_row][vc_column][vc_tta_accordion active_section=”” collapsible_all=”true” title=”Volunteer Opportunities”][vc_tta_section title=”Get Involved” tab_id=”1596647843332-2e6c0414-39ce”][vc_column_text]It’s super easy! Register online by clicking on the desired date below.[/vc_column_text][vc_raw_html]JTVCZmFyZWhhcmJvciUyMHNob3J0bmFtZSUzRCUyMmxvc3RyaXZlcmNhdmUlMjIlMjBmYWxsYmFjayUzRCUyMnNpbXBsZSUyMiUyMGZ1bGxfaXRlbXMlM0QlMjJ5ZXMlMjIlMjBmbG93JTNEJTIyOTIxNDg5JTIyJTIwaXRlbXMlM0QlMjI4MTIxOSUyMiUyMHR5cGUlM0QlMjJyZXNwb25zaXZlJTIyJTVE[/vc_raw_html][vc_empty_space][/vc_tta_section][vc_tta_section title=”What You’ll Be Doing” tab_id=”1596647828369-0aab98df-71a5″][vc_row_inner][vc_column_inner width=”2/3″][vc_column_text]Celebrate Earth Week with us! Join us as we focus on removing invasive and exotic plants that threaten native wildflowers and wildlife habitats. \nOur Main Target: Euonymus fortunei\, also known as Winter Creeper. This commonly used ground cover has been overtaking the Valley\, encroaching on both our Meadow Restoration Project and the surrounding Blue Hole #3. Throughout the week\, we’ll work together to protect and enhance these vital habitats by removing Winter Creeper. \nCheck out the calendar above or the schedule below for a full list of activities throughout the week![/vc_column_text][/vc_column_inner][vc_column_inner width=”1/3″][vc_single_image image=”8105″ img_size=”” alignment=”center”][/vc_column_inner][/vc_row_inner][/vc_tta_section][vc_tta_section title=”Why It Matters” tab_id=”1741300003690-6dfd1e6d-f20b”][vc_column_text css=””]Removing invasive plants like Winter Creeper is essential for restoring the balance of our local ecosystems. These aggressive plants crowd out native species\, competing for vital resources like sunlight\, water\, and nutrients\, which leads to a loss in biodiversity. By clearing out invasive species\, we’re giving native plants the space they need to thrive\, creating a healthier environment for local wildlife. This work also boosts the overall health of the ecosystem – improving soil quality\, supporting pollinators\, and preserving the natural beauty and function of the landscape for years to come.[/vc_column_text][/vc_tta_section][vc_tta_section title=”Who Can Join the Fun” tab_id=”1596647812985-1634d36d-75db”][vc_column_text]Everyone aged 10 and up can volunteer! Children 15 and younger must be accompanied by an adult. \nHave a group? Get your students\, staff\, or club involved in Earth Week! Groups can sign up online or contact Caroline at 270.393.0077.[/vc_column_text][/vc_tta_section][vc_tta_section title=”Perks of Volunteering” tab_id=”1679347158495-e98974c9-ac8d”][vc_column_text]Free Boat Tour Pass! All Habitat Heroes will receive a free boat tour pass! \nFirst 100 Participants who Register will receive a Free Earth Week T-shirt![/vc_column_text][/vc_tta_section][vc_tta_section title=”Earth Week Moments” tab_id=”1596663667840-2706386e-b719″][vc_row_inner][vc_column_inner offset=”vc_hidden-sm vc_hidden-xs”][/vc_column_inner][vc_column_inner offset=”vc_hidden-lg vc_hidden-md”]\n\n\n	\n\n		\n	\n\n\n\n\n\n	\n	\n		Earth Week 2023\n	 \n	\n	\n	VIEW GALLERY\n[/vc_column_inner][/vc_row_inner][/vc_tta_section][/vc_tta_accordion][vc_empty_space][vc_column_text] \n“The care of Earth is our most ancient and most worthy\, and after all our most pleasing responsibility.” – Wendell Berry  \n[/vc_column_text][vc_separator]Earth Week Events \nThe Earth Week celebration continues all week long! Explore more exciting events happening throughout the week. \n[vc_icon icon_fontawesome=”fas fa-angle-double-down” color=”green” align=”center” css_animation=”bounceInDown”]\n	\n		\n			\n		\n			Earth WeekApril 20 - 26 Get ready for a week of nature-filled fun at Lost River Cave! Earth Week is all about celebrating the beauty of… Find out more\n			\n							April\n							20\n								\n	\n	\n		\n			\n		\n			Earth Week: Invasive Plant PullMake a difference this Earth Week! Join us at Lost River Cave for an invasive plant pull on Wednesday\, April 22\, Friday\, April 24 or… Find out more\n			\n							April\n							22\n								\n	\n	\n		\n			\n		\n			Earth Week: Yoga at the CaveCome stretch and unwind with an hour of yoga in the great outdoors at the mystical Lost River Cave. Grab your trusty yoga mat and… \n                \n                $25Find out more\n			\n							April\n							22\n								\n	\n	\n		\n			\n		\n			Snap & Share: A Citizen Science Field WorkshopReady to turn your nature photos into real scientific data? Join us for a hands-on citizen science experience focused on nature photography and wildlife documentation… Find out more\n			\n							April\n							23\n								\n	\n	\n		\n			\n		\n			Earth Week: City Nature ChallengeBowling Green & South-Central Kentucky Project Join us for Bowling Green’s City Nature Challenge from April 24-27 and help put our community’s biodiversity on the… \n                \n                FreeFind out more\n			\n							April\n							24\n								\n	\n	\n		\n			\n		\n			Preschool Science Labwith Warren County Public Library Celebrate Earth Week with a free hands-on Preschool Science Lab at Lost River Cave in partnership with the Warren County… Find out more\n			\n							April\n							24\n								\n	\n	\n		\n			\n		\n			Earth Week: Invasive Plant PullMake a difference this Earth Week! Join us at Lost River Cave for an invasive plant pull on Wednesday\, April 22\, Friday\, April 24 or Sunday\,… Find out more\n			\n							April\n							24\n								\n	\n	\n		\n			\n		\n			Earth Week: Movie NightTypically reserved for Lost River Cave members\, our Movie Night series transforms the Cavern Nite Club into a one-of-a-kind underground theater. For Earth Week\, we’re… \n                \n                FreeFind out more\n			\n							April\n							25\n								\n	\n	\n		\n			\n		\n			Earth Week: Invasive Plant PullMake a difference this Earth Week! Join us at Lost River Cave for an invasive plant pull on Wednesday\, April 22\, Friday\, April 24 or Sunday\,… Find out more\n			\n							April\n							26\n								\n	[vc_row_inner disable_element=”yes”][vc_column_inner][vc_raw_html]JTNDJTIxLS0lMjBGYXJlSGFyYm9yJTIwY2FsZW5kYXIlMjBvZiUyMGZsb3clMjAlMjM5MjE0ODklMjAtLSUzRSUwQSUzQ3NjcmlwdCUyMHNyYyUzRCUyMmh0dHBzJTNBJTJGJTJGZmFyZWhhcmJvci5jb20lMkZlbWJlZHMlMkZzY3JpcHQlMkZjYWxlbmRhciUyRmxvc3RyaXZlcmNhdmUlMkYlM0ZmYWxsYmFjayUzRHNpbXBsZSUyNmZ1bGwtaXRlbXMlM0R5ZXMlMjZmbG93JTNEOTIxNDg5JTIyJTNFJTNDJTJGc2NyaXB0JTNF[/vc_raw_html][/vc_column_inner][/vc_row_inner][/vc_column][/vc_row][vc_row][vc_column]Thank you to Our Sponsors![vc_single_image image=”9178″ img_size=”large” alignment=”center” onclick=”custom_link” css=”” link=”https://www.gravesgilbert.com/”][/vc_column][/vc_row][vc_row][vc_column width=”1/3″][vc_single_image image=”10340″ img_size=”medium” alignment=”center” onclick=”custom_link” css=”” link=”https://www.verygoodtreeservices.com/”][vc_single_image image=”9588″ img_size=”medium” alignment=”center” onclick=”custom_link” css=”” link=”https://bowlinggreententrentals.com/”][/vc_column][vc_column width=”1/3″][vc_single_image image=”10341″ img_size=”medium” alignment=”center” onclick=”custom_link” css=”” link=”https://riucoaching.com/”][/vc_column][vc_column width=”1/3″][vc_single_image image=”10342″ img_size=”medium” alignment=”center” onclick=”custom_link” img_link_target=”_blank” css=”” link=”https://behappybg.com/”][vc_single_image image=”10354″ img_size=”medium” alignment=”center” onclick=”custom_link” css=”” link=”https://www.bluecotton.com/”][/vc_column][/vc_row][vc_row disable_element=”yes”][vc_column]Earth Week Events \n							Celebrating All Week Long!Join us for Earth Week at Lost River Cave\, featuring volunteer opportunities\, habitat restoration\, and educational programs for all ages!  \n							Monday\, April 21stHidden Pollinators: Cellophane Bees! \n5:30-6:30pm \nLearn More Here \n  \n							Tuesday\, April 22ndPollinator Seed Bombs! \nCome & Go: 2:00-6:00pm \nLearn More \n  \n							Tuesday\, April 22ndYoga at the Cave! \n6:30-7:30pm \nLearn More \n  \n							Wednesday\, April 23rdVolunteer Invasive Plant Pull Day! \n1:00-4:00pm \nRegister to Volunteer \n  \n							Friday\, April 25thCity Nature Challenge \nApril 25 – 28 \nLearn More \n  \n							Friday\, April 25thVolunteer Invasive Plant Pull Day! \n1:00-4:00pm \nRegister to Volunteer \n  \n							Saturday\, April 26thThe Art of Local Wood \n10:00-11:00am \nLearn More \n  \n							Saturday\, April 26thThe Secret Lives of Trees \n1:00-2:00pm \nLearn More \n  \n							Saturday\, April 26thComposting 101 \n2:00-3:00pm \nLearn More \n  \n							Saturday\, April 26thFlora’s Forest Friends \n2:00-4:00pm \nLearn More \n  \n							Saturday\, April 26thMember Movie Night \n7:30-9:30pm \nLearn More \n  \n							Sunday\, April 27thVolunteer Invasive Plant Pull Day! \n1:00-4:00pm \nRegister to Volunteer \n [vc_separator][/vc_column][/vc_row][vc_row content_placement=”middle” disable_element=”yes”][vc_column]Thank you to Our Sponsors! \nOur Sponsor Habitat Heroes are helping save the world! \n[vc_single_image image=”9357″ img_size=”medium” alignment=”center” onclick=”custom_link” img_link_target=”_blank” link=”https://warrenconservation.com/”][vc_single_image image=”9336″ img_size=”medium” alignment=”center” onclick=”custom_link” link=”https://www.blossmangas.com/”][vc_single_image image=”8133″ img_size=”medium” alignment=”center” onclick=”custom_link” img_link_target=”_blank” link=”https://www.ensafe.com/”][vc_empty_space][/vc_column][/vc_row][vc_row disable_element=”yes”][vc_column][vc_single_image image=”7180″ img_size=”large” alignment=”center”][/vc_column][/vc_row][vc_row disable_element=”yes”][vc_column width=”1/2″][/vc_column][vc_column width=”1/2″][vc_single_image image=”6270″ img_size=”large” alignment=”center” onclick=”custom_link” img_link_target=”_blank” link=”https://www.crowdsouth.com/”][/vc_column][/vc_row][vc_row disable_element=”yes”][vc_column width=”1/3″][vc_single_image image=”6078″ img_size=”medium” alignment=”center” onclick=”custom_link” img_link_target=”_blank” link=”https://soky.wildones.org/”][/vc_column][vc_column width=”1/3″][vc_single_image image=”7121″ img_size=”medium” alignment=”center” onclick=”custom_link” img_link_target=”_blank” link=”https://busybeenurseryandconsulting.com/”][vc_column_text] \nBusy Bee Nursery and Consulting\n[/vc_column_text][/vc_column][vc_column width=”1/3″][/vc_column][/vc_row][vc_row disable_element=”yes”][vc_column width=”1/3″]Thank you to Our Sponsors! \nOur Sponsor Habitat Heroes are helping save the world! \nJoin us and become a sponsor\, too.\n[vc_single_image image=”4428″ img_size=”medium” alignment=”center” onclick=”custom_link” img_link_target=”_blank” link=”https://www.ensafe.com/”][/vc_column][vc_column width=”1/3″][vc_single_image image=”7121″ img_size=”medium” alignment=”center” onclick=”custom_link” img_link_target=”_blank” link=”https://www.crowdsouth.com/”][vc_column_text] \nBusy Bee Nursery and Consulting\n[/vc_column_text][/vc_column][vc_column width=”1/3″][vc_single_image image=”6349″ img_size=”medium” alignment=”center” onclick=”custom_link” img_link_target=”_blank” link=”https://www.crowdsouth.com/”][/vc_column][/vc_row][vc_row disable_element=”yes”][vc_column width=”1/3″][vc_single_image image=”4427″ img_size=”medium” alignment=”center” onclick=”custom_link” img_link_target=”_blank” link=”https://www.ensafe.com/”][/vc_column][vc_column width=”1/3″][vc_single_image image=”6270″ img_size=”medium” alignment=”center” onclick=”custom_link” img_link_target=”_blank” link=”https://www.crowdsouth.com/”][/vc_column][vc_column width=”1/3″][vc_single_image image=”6345″ img_size=”200×200″ alignment=”center”][/vc_column][/vc_row][vc_row disable_element=”yes”][vc_column width=”1/3″][vc_single_image image=”4428″ img_size=”medium” alignment=”center”][/vc_column][vc_column width=”1/3″][vc_single_image image=”6274″ img_size=”200×200″ alignment=”center” onclick=”custom_link” img_link_target=”_blank” link=”https://www.printmediapress.com/”][/vc_column][vc_column width=”1/3″][vc_single_image image=”6293″ img_size=”medium” alignment=”center”][/vc_column][/vc_row][vc_row disable_element=”yes”][vc_column width=”1/3″][vc_single_image image=”6271″ img_size=”medium” alignment=”center” onclick=”custom_link” img_link_target=”_blank” link=”https://www.socu.com/”][/vc_column][vc_column width=”1/3″][vc_single_image image=”3904″ img_size=”medium” alignment=”center” onclick=”custom_link” img_link_target=”_blank” link=”https://www.natsoutdoor.com/”][vc_column_text css=”.vc_custom_1678905045210{padding-left: 1px !important;}”] \n“The care of Earth is our most ancient and most worthy\, and after all our most pleasing responsibility.” – Wendell Berry  \n[/vc_column_text][/vc_column][vc_column width=”1/3″][vc_single_image image=”5765″ img_size=”medium” alignment=”center”][/vc_column][/vc_row][vc_row disable_element=”yes”][vc_column width=”1/3″][vc_single_image image=”6349″ img_size=”225×153″ alignment=”center” onclick=”custom_link” img_link_target=”_blank” link=”https://behappybg.com/”][/vc_column][vc_column width=”1/3″][vc_single_image image=”6078″ img_size=”medium” alignment=”center” onclick=”custom_link” img_link_target=”_blank” link=”https://soky.wildones.org/”][/vc_column][vc_column width=”1/3″][vc_single_image image=”3898″ img_size=”medium” alignment=”center” onclick=”custom_link” img_link_target=”_blank” link=”http://www.iniprintworks.com/”][/vc_column][/vc_row][vc_row disable_element=”yes”][vc_column width=”1/3″][vc_single_image image=”3901″ img_size=”medium” alignment=”center” onclick=”custom_link” img_link_target=”_blank” link=”https://www.marcos.com/”][/vc_column][vc_column width=”1/3″][vc_single_image image=”4789″ img_size=”175×175″ alignment=”center”][/vc_column][vc_column width=”1/3″][/vc_column][/vc_row][vc_row disable_element=”yes”][vc_column][vc_empty_space]Sign Up to Volunteer[vc_empty_space][/vc_column][/vc_row]
URL:https://www.lostrivercave.org/event/earth-week/
LOCATION:Lost River Cave\, 2818 Nashville Rd\, Bowling Green\, KY\, 42101\, United States
CATEGORIES:Community,Earth Week Celebration,Volunteer
ATTACH;FMTTYPE=image/png:https://www.lostrivercave.org/wp-content/uploads/2021/03/MicrosoftTeams-image-11.png
END:VEVENT
BEGIN:VEVENT
DTSTART;TZID=UTC:20260420T183000
DTEND;TZID=UTC:20260420T193000
DTSTAMP:20260422T091733
CREATED:20260331T222418Z
LAST-MODIFIED:20260408T194843Z
UID:10327-1776709800-1776713400@www.lostrivercave.org
SUMMARY:Earth Week: Sound Bath
DESCRIPTION:[vc_row full_width=”stretch_row”][vc_column css_animation=”none” css=”.vc_custom_1743454049806{padding-left: 10px !important;}”]Snap & Share: A Citizen Science Field Workshop[/vc_column][/vc_row][vc_row][vc_column][vc_column_text css=””]Honor Earth Day by immersing yourself in a restorative outdoor sound bath surrounded by the natural beauty of Lost River Cave. Let the gentle frequencies of crystal bowls\, chimes\, and nature guide you into deep relaxation\, grounding\, and connection with the earth beneath you. No experience needed—just bring a mat\, a blanket\, and an open heart. The class will be hosted by Molly Kerby with Re-Innovate-U\, and a portion of ticket proceeds will support Lost River Cave! Check-in kicks off at 6:00 pm\, with the class starting at 6:30 pm.  \nClass Fee: $35 \nBring:\n \n\nYoga Mat\nTowel (recommended)\nBlanket (recommended)\nPillow or something to rest your head on (recommended)\n\n[/vc_column_text]Sign Up[vc_empty_space][vc_column_text css=””]Hosted By:[/vc_column_text][vc_single_image image=”10341″ img_size=”medium” onclick=”custom_link” img_link_target=”_blank” css=”” link=”https://riucoaching.com/”][vc_separator]Explore More Events \nThe Earth Week celebration continues all week long! Explore more exciting events happening throughout the week. \n[vc_icon icon_fontawesome=”fas fa-angle-double-down” color=”green” align=”center” css_animation=”bounceInDown”]\n	\n		\n			\n		\n			Earth WeekApril 20 - 26 Get ready for a week of nature-filled fun at Lost River Cave! Earth Week is all about celebrating the beauty of… Find out more\n			\n							April\n							20\n								\n	\n	\n		\n			\n		\n			Earth Week: Invasive Plant PullMake a difference this Earth Week! Join us at Lost River Cave for an invasive plant pull on Wednesday\, April 22\, Friday\, April 24 or… Find out more\n			\n							April\n							22\n								\n	\n	\n		\n			\n		\n			Earth Week: Yoga at the CaveCome stretch and unwind with an hour of yoga in the great outdoors at the mystical Lost River Cave. Grab your trusty yoga mat and… \n                \n                $25Find out more\n			\n							April\n							22\n								\n	\n	\n		\n			\n		\n			Snap & Share: A Citizen Science Field WorkshopReady to turn your nature photos into real scientific data? Join us for a hands-on citizen science experience focused on nature photography and wildlife documentation… Find out more\n			\n							April\n							23\n								\n	\n	\n		\n			\n		\n			Earth Week: City Nature ChallengeBowling Green & South-Central Kentucky Project Join us for Bowling Green’s City Nature Challenge from April 24-27 and help put our community’s biodiversity on the… \n                \n                FreeFind out more\n			\n							April\n							24\n								\n	\n	\n		\n			\n		\n			Preschool Science Labwith Warren County Public Library Celebrate Earth Week with a free hands-on Preschool Science Lab at Lost River Cave in partnership with the Warren County… Find out more\n			\n							April\n							24\n								\n	\n	\n		\n			\n		\n			Earth Week: Invasive Plant PullMake a difference this Earth Week! Join us at Lost River Cave for an invasive plant pull on Wednesday\, April 22\, Friday\, April 24 or Sunday\,… Find out more\n			\n							April\n							24\n								\n	\n	\n		\n			\n		\n			Earth Week: Movie NightTypically reserved for Lost River Cave members\, our Movie Night series transforms the Cavern Nite Club into a one-of-a-kind underground theater. For Earth Week\, we’re… \n                \n                FreeFind out more\n			\n							April\n							25\n								\n	\n	\n		\n			\n		\n			Earth Week: Invasive Plant PullMake a difference this Earth Week! Join us at Lost River Cave for an invasive plant pull on Wednesday\, April 22\, Friday\, April 24 or Sunday\,… Find out more\n			\n							April\n							26\n								\n	[/vc_column][/vc_row][vc_row disable_element=”yes”][vc_column][vc_column_text]Come stretch and unwind with an hour of yoga in the great outdoors at the mystical Lost River Cave. Grab your trusty yoga mat and dive into this one-of-a-kind session. Exciting door prizes await from LRC & Be Happy Yoga & Salt Cave\, all for a good cause supporting Lost River Cave! Check-in kicks off at 6:00 pm\, with the class starting at 6:30 pm sharp![/vc_column_text][vc_column_text] \n\nRegistration Will Open Soon! \n  \n\n\nClass Fee: $20 \n\n[/vc_column_text][/vc_column][/vc_row]
URL:https://www.lostrivercave.org/event/earth-week-sound-bath/
LOCATION:Lost River Cave\, 2818 Nashville Rd\, Bowling Green\, KY\, 42101\, United States
CATEGORIES:Adult,Community,Earth Week Celebration,Family,Youth
ATTACH;FMTTYPE=image/png:https://www.lostrivercave.org/wp-content/uploads/2026/03/Screenshot-2026-03-27-at-10.59.35-AM.png
END:VEVENT
END:VCALENDAR